BEGIN:VCALENDAR
VERSION:2.0
PRODID:-//Cognizant Microsoft Business Group - ECPv5.6.0//NONSGML v1.0//EN
CALSCALE:GREGORIAN
METHOD:PUBLISH
X-WR-CALNAME:Cognizant Microsoft Business Group
X-ORIGINAL-URL:https://mbg.cognizant.com
X-WR-CALDESC:Events for Cognizant Microsoft Business Group
BEGIN:VTIMEZONE
TZID:America/New_York
BEGIN:DAYLIGHT
TZOFFSETFROM:-0500
TZOFFSETTO:-0400
TZNAME:EDT
DTSTART:20210314T070000
END:DAYLIGHT
BEGIN:STANDARD
TZOFFSETFROM:-0400
TZOFFSETTO:-0500
TZNAME:EST
DTSTART:20211107T060000
END:STANDARD
END:VTIMEZONE
BEGIN:VEVENT
DTSTART;TZID=America/New_York:20210505T100000
DTEND;TZID=America/New_York:20210505T104500
DTSTAMP:20210525T204944
CREATED:20210429T185426Z
LAST-MODIFIED:20210429T185426Z
UID:64943-1620208800-1620211500@mbg.cognizant.com
SUMMARY:How to Modernize Your Business Process Automation
DESCRIPTION:Cognizant Microsoft Business Group is hosting a free webinar on how to modernize your business processes and workflows. Join the MBG’s Intelligent Workplace lead Andrew Glasser and Nintex’s Senior Solutions Engineer Terry Simpson as they guide you through this journey. As many organizations are moving to the cloud and older technologies are reaching end-of-life support\, now is the time to migrate and upgrade your workflows and other process automation. During this event\, we will review recent changes to available tools and how to develop a successful modernization strategy. \n\nIn this session\, you will learn: \n\nRecent end of life services by Microsoft\nThe value in using cloud services for process automation\nThe key practices for a successful migration strategy\n\nWe hope you’ll join us to gain a full understanding of modernizing process automation principles and where you can begin your journey. \nRegister for Event
URL:https://mbg.cognizant.com/event/how-to-modernize-your-business-process-automation/
CATEGORIES:Webinar
ATTACH;FMTTYPE=image/jpeg:https://mbg.cognizant.com/wp-content/uploads/2021/04/Modernize-business-process-automation-EmailWeb-600x400-1.jpg
END:VEVENT
BEGIN:VEVENT
DTSTART;TZID=America/New_York:20210610T130000
DTEND;TZID=America/New_York:20210610T144500
DTSTAMP:20210525T204944
CREATED:20210517T164901Z
LAST-MODIFIED:20210517T171642Z
UID:65182-1623330000-1623336300@mbg.cognizant.com
SUMMARY:Microsoft DevOps Forum 2021
DESCRIPTION:Join us for an exclusive virtual forum and learn how to modernize your DevOps with Microsoft\, GitHub\, and Cognizant Microsoft Business Group. \nWhat’s in store during the event: \n\nThe opportunity to learn about Microsoft’s DevOps journey\, with teams across the company sharing how we modernized our processes\, and why we chose GitHub to drive this change.\nA breakdown of the advantages derived from establishing the right DevOps process for your teams.\nThe cultural transformation required to get there—and the opportunities that arise from such a shift.\nPerspectives from Microsoft DevOps specialists\, GitHub\, Cognizant\, and other industry-leading enterprises.\n\nEven if you have deeply-rooted existing processes\, legacy software\, and multiple teams and projects\, you can learn how to unlock your company’s DevOps potential. \nEvent Agenda: \n\nWelcome\nEnable Developers to Build Productively From Anywhere presented by Microsoft\nHow GitHub Builds GitHub Using GitHub presented by GitHub\nThe Value of DevOps by Cognizant Microsoft Business Group\nQ&A\n\nSpeakers: \n \nLogistics \nWhen:\nThursday\, June 10th\, 2021\n01:00PM – 02:45PM ET \nRegister Now >
URL:https://mbg.cognizant.com/event/microsoft-devops-forum-2021/
CATEGORIES:Webinar
ATTACH;FMTTYPE=image/png:https://mbg.cognizant.com/wp-content/uploads/2021/05/header.png
END:VEVENT
BEGIN:VEVENT
DTSTART;TZID=America/New_York:20210623T100000
DTEND;TZID=America/New_York:20210623T104500
DTSTAMP:20210525T204944
CREATED:20210521T174630Z
LAST-MODIFIED:20210521T174630Z
UID:65218-1624442400-1624445100@mbg.cognizant.com
SUMMARY:Agile R&D Production Processing: How to Transform Amid Regulation
DESCRIPTION:Agile R&D Production Processing: How to Transform Amid Regulation\nCompliance with state\, federal\, and international production traceability regulations can seem a never-ending moving target as issues are identified and new regulations are released.  Non-compliance with these regulations risks seizure\, injunction\, criminal prosecution\, and fines in excess of $500\,000. Legacy systems can be costly and slow to adapt. Cognizant Microsoft Business Group’s Production Traceability Accelerator\, built on Microsoft’s Power Platform\, can help you be more agile in this increasingly unpredictable environment. \nIn this webinar\, you will learn how to: \n\nDeploy a true mobile workforce (people\, equipment & materials)\nLeverage integrated Artificial Intelligence technology to monitor equipment and environments\nEnable process agility at a fraction of the cost of traditional systems\nShift from reactive to proactive production management environment\n\nJoin our Business Applications Team to gain an in-depth understanding of how we can help you stay ahead of these ever-changing regulatory mandates! \nWe hope you will join us for this learning opportunity! \nRegister Today – https://bit.ly/3uaEuuD
URL:https://mbg.cognizant.com/event/agile-rd-production-processing-how-to-transform-amid-regulation/
CATEGORIES:Webinar
ATTACH;FMTTYPE=image/jpeg:https://mbg.cognizant.com/wp-content/uploads/2021/05/Agile-Production-Processing-Production-Webinar-All-Sizes-cogni-mbg-agile-production-processing-EmailWeb-600x400-1.jpg
END:VEVENT
END:VCALENDAR