BEGIN:VCALENDAR
VERSION:2.0
PRODID:-//Cognizant Microsoft Business Group - ECPv5.6.0//NONSGML v1.0//EN
CALSCALE:GREGORIAN
METHOD:PUBLISH
X-WR-CALNAME:Cognizant Microsoft Business Group
X-ORIGINAL-URL:https://mbg.cognizant.com
X-WR-CALDESC:Events for Cognizant Microsoft Business Group
BEGIN:VTIMEZONE
TZID:America/New_York
BEGIN:DAYLIGHT
TZOFFSETFROM:-0500
TZOFFSETTO:-0400
TZNAME:EDT
DTSTART:20210314T070000
END:DAYLIGHT
BEGIN:STANDARD
TZOFFSETFROM:-0400
TZOFFSETTO:-0500
TZNAME:EST
DTSTART:20211107T060000
END:STANDARD
END:VTIMEZONE
BEGIN:VEVENT
DTSTART;TZID=America/New_York:20210408T100000
DTEND;TZID=America/New_York:20210408T104500
DTSTAMP:20210528T003538
CREATED:20210304T160358Z
LAST-MODIFIED:20210315T142636Z
UID:64263-1617876000-1617878700@mbg.cognizant.com
SUMMARY:Power Platform Webinar Series: Build Customer Relationships at Scale
DESCRIPTION:Build Customer Relationships at Scale\nCognizant’s Microsoft Business Group is hosting a free webinar to show you how Microsoft Relationship Sales can empower your team to drive more personalized and meaningful engagement with buyers. The solution brings together disparate data across Dynamics 365 Sales\, LinkedIn Sales Navigator\, and productivity systems\, such as Office 365. Using this unified relationship data\, sellers will get a holistic view of relationships and deliver the authentic and personalized engagement today’s buyers demand. \nIn this webinar you will experience: \n\nSales Navigator and Dynamics 365 Integration Overview\nEmbedded LinkedIn Profiles in D365 Sales\nLive Org Charts in D365 Sales\nCRM Sync and Activity Writeback\nDynamics 365 Data Validation Alerts\nContact Creation Automation in D365\n\nJoin our Business Applications Architects\, Doug Bellingeri and Edgar Valvert to gain an in-depth understanding of the key business drivers behind adoption of Microsoft Relationship Sales. We hope you’ll join us for this learning opportunity! \nRegister Today – https://bit.ly/3eaGqyW
URL:https://mbg.cognizant.com/event/power-platform-webinar-series-build-customer-relationships-at-scale/
CATEGORIES:Webinar
ATTACH;FMTTYPE=image/jpeg:https://mbg.cognizant.com/wp-content/uploads/2021/03/CMBG-Power-Platform-Build-Customer-Relationships-Graphics-Pack-All-Sizes_cmbg-power-platform-build-customer-EmailWeb-600x400-1.jpg
END:VEVENT
BEGIN:VEVENT
DTSTART;TZID=America/New_York:20210323T100000
DTEND;TZID=America/New_York:20210323T104500
DTSTAMP:20210528T003538
CREATED:20210223T155753Z
LAST-MODIFIED:20210315T142542Z
UID:64222-1616493600-1616496300@mbg.cognizant.com
SUMMARY:Cloud Native Transformation: Increase Resilience\, Scalability and Application Security with Modern Apps in Azure
DESCRIPTION:In this webinar\, our Azure Application Modernization experts will cover core competencies and best practices related to successful application modernization efforts. Our experts will discuss areas ranging from decomposing a monolithic application to the importance of DevOps principles and embracing the elasticity that cloud-native components offer\, enabling customers to set and achieve attainable transformative goals for their applications. \nModernize Your Application by Decomposing Your Monolith \nDuring this event\, we will educate your team around: \n\nHow decomposition leads to increased agility and higher innovation\nTechniques and approaches to safely decompose a monolithic legacy application\nEvolutionary decomposition strategies that minimize business risk\nWays of thinking to help decide when to re-purpose versus when to rewrite features\n\nAfter this event\, you will have a more solid understanding of: \n\nHow OpenID Connect and distributed authorization simplifies decomposition of a monolith\nHow to vertically slice a monolith to modernize in a methodical manner\nHow to think about grouping features and capabilities using Domain-Driven Design\nData and event-based approaches for coordination between decoupled services\n\nRegister Today  – https://bit.ly/3bsyrtY
URL:https://mbg.cognizant.com/event/cloud-native-transformation-increase-resilience-scalability-and-application-security-with-modern-apps-in-azure/
CATEGORIES:Webinar
ATTACH;FMTTYPE=image/jpeg:https://mbg.cognizant.com/wp-content/uploads/2021/02/cmbg-cloud-native-transformation-webinar-UFArticle-500x272-1.jpg
END:VEVENT
BEGIN:VEVENT
DTSTART;TZID=America/New_York:20210225T100000
DTEND;TZID=America/New_York:20210225T110000
DTSTAMP:20210528T003538
CREATED:20210126T143802Z
LAST-MODIFIED:20210315T143013Z
UID:64201-1614247200-1614250800@mbg.cognizant.com
SUMMARY:Power Platform Series: How to Build Resilience and Revenue with Dynamics 365
DESCRIPTION:Power Platform: How to Build Resilience and Revenue with Dynamics 365\nAre you ready to learn the secrets of how to double your business in only 8 weeks? \nThe Cognizant Microsoft Business Group is excited to host a webinar with special guests Gail Mercer-MacKay\, Founder and CEO of Mercer-MacKay Digital Storytelling and Nelson Lopes\, Microsoft’s Partner Technology Architect. \nOn this webinar\, Gail will share the steps she took to transform from a professional services company to a software company\, why this matters for her company’s valuation and long-term strategy\, and how she was able to accelerate her sales pipeline in only 8 weeks by investing in a Microsoft solution using Dynamics 365\, Power Platform and the Power Apps Portal. You will hear the story behind the solution that digitally transformed her professional services marketing company\, increased traffic and engagement by 250%\, gained record new customers and doubled sales. \nWe are excited to be joined by Microsoft’s Partner Technology Architect\, Nelson Lopes\, who will share the latest information about the Power Platform integrated with Dynamics 365. Plus\, you’ll hear first-hand how Cognizant Microsoft Business Group Applied Innovation Lead\, Jovana Krstic and Solution Architect\, Edgar Valvert\, solved for numerous challenges including overcoming a tight budget and shaving off 80% of the Gail’s original timeline to creatively build a high-value\, seamless user experience and customized portal\, daxai.com for her customers. \nThis webinar will be ideal for any business leader looking to dramatically transform their business\, automate processes\, introduce better governance\, gain insight\, and reduce costs. \nHere’s what to expect: \n\nThe story behind one client’s digital transformation\nThe custom portal solution built using Microsoft technology\nIntegrating the Power Platform with Dynamics 365 for maximum ROI\nHow to get started\n\nRegister for Event – https://bit.ly/3jVvTIG
URL:https://mbg.cognizant.com/event/power-platform-series-how-to-build-resilience-and-revenue-with-dynamics-365/
CATEGORIES:Webinar
ATTACH;FMTTYPE=image/jpeg:https://mbg.cognizant.com/wp-content/uploads/2021/02/cmbg-cloud-native-transformation-webinar-EmailWeb-600x400-1.jpg
ORGANIZER;CN="New%20Signature":MAILTO:marketing@newsignature.com
END:VEVENT
BEGIN:VEVENT
DTSTART;TZID=America/New_York:20210216T120000
DTEND;TZID=America/New_York:20210216T140000
DTSTAMP:20210528T003538
CREATED:20201222T182027Z
LAST-MODIFIED:20210315T143201Z
UID:63763-1613476800-1613484000@mbg.cognizant.com
SUMMARY:Cognizant’s Experience Lab for Continuous Testing with Azure
DESCRIPTION:With Microsoft Azure growing rapidly in the cloud market\, more organizations are exploring how Azure supports Continuous Testing and Automation. \nIn collaboration with Microsoft\, Cognizant’s Quality Engineering and Assurance practice along with Cognizant’s Microsoft Business Group (New Signature & 10th Magnitude)\, are hosting an Experience Lab on Continuous Testing with Azure. \nWhat is in it for you? \nLed by our Quality Engineering and Assurance Experts\, this exclusive 2-hour lab will give you hands-on experience to build your own Continuous Testing pipeline\, using open source tools and Azure services by: \n\nFollowing a stage-based lab structure explaining basic concepts and benefits of Continuous Testing with a detailed playbook for participants.\nAdopting a solve-and-learn approach\, debugging and fixing defects to gain a more practical insight.\nProviding access to thought leadership content with best practices and alternative approaches.\n\nWe hope to see you there! \nLogistics\nWhen:\nTuesday\, February 16th 2021\n12:00PM – 2:00PM ET / 9:00AM – 11AM PT \nRegister for this event:
URL:https://mbg.cognizant.com/event/continuous-testing-with-azure-experience-lab/
CATEGORIES:Training Session,Webinar
ATTACH;FMTTYPE=:
END:VEVENT
BEGIN:VEVENT
DTSTART;TZID=America/New_York:20210128T100000
DTEND;TZID=America/New_York:20210128T104500
DTSTAMP:20210528T003538
CREATED:20201203T143101Z
LAST-MODIFIED:20210315T143312Z
UID:63592-1611828000-1611830700@mbg.cognizant.com
SUMMARY:Power Platform Series: Drive Organizational Productivity with Power Virtual Agents
DESCRIPTION:Drive Organizational Productivity with Power Virtual Agents\nCognizant’s Microsoft Business Group is hosting a free webinar to discover how you can easily build chatbots to engage conversationally with your customers and employees—no coding required. \nPower Virtual Agents is a core component of Microsoft’s Power Platform. Microsoft’s Power Platform provides world-class no-code\, low-code development capabilities for desktop and mobile applications for a fraction of the cost of traditional development. Power Virtual Agents provides the ability to quickly create sophisticated\, AI-powered chatbots that can resolve common issues and answer questions around the clock for businesses of any size or within any industry. \nIn this webinar\, you will experience: \n\nCommon Power Virtual Agent use cases\nConnecting Power Virtual Agents to Microsoft Dataverse\nBuilding an Intelligent Chat Bot without a single line of code\nTesting and Running the Bot\n\nJoin our Business Applications Practice Lead\, Todd Chapman\, and Business Applications Architect\, Doug Bellingeri\, to gain an in-depth understanding of the key business drivers behind adoption of Power Virtual Agents. We hope you will join us for this learning opportunity!
URL:https://mbg.cognizant.com/event/power-platform-webinar-series-drive-organizational-productivity-with-power-virtual-agents/
CATEGORIES:Webinar
ATTACH;FMTTYPE=:
ORGANIZER;CN="New%20Signature":MAILTO:marketing@newsignature.com
END:VEVENT
END:VCALENDAR