BEGIN:VCALENDAR
VERSION:2.0
PRODID:-//Cognizant Microsoft Business Group - ECPv5.9.0//NONSGML v1.0//EN
CALSCALE:GREGORIAN
METHOD:PUBLISH
X-WR-CALNAME:Cognizant Microsoft Business Group
X-ORIGINAL-URL:https://mbg.cognizant.com
X-WR-CALDESC:Events for Cognizant Microsoft Business Group
BEGIN:VTIMEZONE
TZID:America/New_York
BEGIN:DAYLIGHT
TZOFFSETFROM:-0500
TZOFFSETTO:-0400
TZNAME:EDT
DTSTART:20210314T070000
END:DAYLIGHT
BEGIN:STANDARD
TZOFFSETFROM:-0400
TZOFFSETTO:-0500
TZNAME:EST
DTSTART:20211107T060000
END:STANDARD
END:VTIMEZONE
BEGIN:VEVENT
DTSTART;TZID=America/New_York:20210916T113000
DTEND;TZID=America/New_York:20210916T170000
DTSTAMP:20210908T221237
CREATED:20210824T192216Z
LAST-MODIFIED:20210824T192217Z
UID:66734-1631791800-1631811600@mbg.cognizant.com
SUMMARY:.NET App Modernization Workshop
DESCRIPTION:Cognizant Microsoft Business Group in partnership with Microsoft would like to invite you for the Azure Immersion Workshop: .NET App Modernization\, that is designed to help you manage and modernize your Microsoft .NET application states as you migrate them to Azure App Service. The morning kicks off with a whiteboard design session on app modernization\, followed by a hands-on lab to help you manage your .NET app library to increase resiliency\, improve cost-efficiency\, and help you scale more easily. \nDuring this training event\, you will: \n\nLearn how to prioritize and evaluate your applications to prepare them for Azure.\nModernize your .NET library with minimal interruptions and learn best practices\, design patterns\, and obstacles to avoid.\nJoin a hands-on lab that gets you started on your digital transformation journey.\n\nHere’s what you can expect: \nIntroduction to Application modernization on Azure\nWhiteboard Design Session\nHands-on Lab \nReserve your seat now\, because space is limited.When: September 16\, 2021 | 11:30 AM – 5:00 PM | (GMT-08:00) Pacific Time (US & Canada) \nRegister here
URL:https://mbg.cognizant.com/event/net-app-modernization-workshop/
CATEGORIES:Webinar
ATTACH;FMTTYPE=image/jpeg:https://mbg.cognizant.com/wp-content/uploads/2021/08/cogni-mbg-dotnet-app-modernization-workshop-WebFeatured-1200x800-1.jpg
END:VEVENT
BEGIN:VEVENT
DTSTART;TZID=America/New_York:20210928T113000
DTEND;TZID=America/New_York:20210928T170000
DTSTAMP:20210908T221237
CREATED:20210824T192556Z
LAST-MODIFIED:20210824T192556Z
UID:66737-1632828600-1632848400@mbg.cognizant.com
SUMMARY:Cloud Adoption Framework Workshop
DESCRIPTION:Accelerate Your Cloud Journey: From Cloud-adopters to Cloud-forerunners\nWe invite you to join the Cognizant Microsoft Business Group for a free\, virtual hands-on Microsoft Cloud Adoption Framework Workshop. \nLearn more about how you can prepare your cloud environments not only to receive all the migrating applications but also to balance agility\, governance and security considerations using Azure landing zones. We will also provide an overview of the key components of the Microsoft Cloud Adoption Framework and our proprietary GO Digital Operating Model that guides your overall cloud journey. \nThis workshop on Tues. Sept 28th from 11:30AM to 5:00PM ET\, will include:\n\nAn overview of the Cloud Adoption Framework and how it helps you strategize\, plan and be ready to adopt cloud technologies.\nIn-depth understanding of Azure landing zones and the different implementation options to choose from.\nHow Govern and Manage methodologies of the Cloud Adoption Framework can help you run a cloud portfolio with proper guardrails?\nGet hands-on experience in a virtual lab for creating your landing zones in Azure and building your first governance MVP.\n\nExclusive Offer:\nAttend this workshop and avail Microsoft’s Data and Infrastructure Migration Assessment for no cost to gauge and build your organization’s cloud adoption roadmap. \nSpace is limited\, so register today!\nWhen: Tuesday Sept 28th\, 2021\n11:30AM – 05:00PM ET | Virtual
URL:https://mbg.cognizant.com/event/cloud-adoption-framework-workshop/
CATEGORIES:Webinar
ATTACH;FMTTYPE=image/jpeg:https://mbg.cognizant.com/wp-content/uploads/2021/08/WebFeatured-1200x800-1.jpg
END:VEVENT
END:VCALENDAR